Workbook
Name A: #REF!
Name A: #REF!
Name A: #REF!

Sheet 1.0 Statistical Identification
A2: دائرة الأحصاءات العامة و منتدي البحوث الأقتصادية
A3: المسح التتبعي لسوق العمل الأردني لسنة 2016
A4: 2. الاستمارة الفردية لكل أفراد الأسرة
A6: القسم الأول: التعريف الأحصائي
A7: الباحث: راجع البيانات الرئيسية مع المستجيب في بداية الأستمارية الفردية
A8: 1000 | B8: هل هذا الفرد من اسرة ضمن عينة جديدة أم اسرة من مسح 2010؟ | C8: 1. أسرة من مسح 2010 2. أسرة من عينة جديدة | D8: =CONCATENATE("If =2-->Q",A10) -> If =2-->Q1002
A9: 1001 | B9: رقم الأسرة في مسح 2016 | D9: after answering Q202
A10: =A9+1 -> 1002 | B10: رقم العنقود و رقم الأسرة في العنقود | C10: Generate and display hhid
A11: 202 | B11: اسم الفرد المبحوث
A12: 201 | B12: رقم الفرد في الأسرة في مسح 2016
A13: 204 | B13: النوع | C13: 1. ذكر 2. أنثي
A14: 205 | B14: تاريخ الميلاد (شهر /سنة) | C14: Dropdown Menu: a.شهر b. سنة
A15: 206 | B15: العمر (بالسنوات الكاملة) اذا كان أكبر من 99، أكتب 99 خمن العمر، اذا كان لا يعرف | C15: Numurical Textbox: (0-99)
A16: 207 | B16: الجنسية | C16: Dropdown menu with the list of countries
A17: 208 | B17: a. هل كان الفرد عضو في الاسرة خلال فترة المسح القبلي (عند زيارتك في يونيو 2016) b. اذا كانت الاجابة ب"نعم"، اكتب رقم سطر الفرد في الاسرة خلال المسح القبلي | C17: 1. نعم 2. لا
A18: 209 | B18: هل يعيش الفرد كل الوقت مع الأسرة؟ | C18: 1. نعم 2. لا | D18: =CONCATENATE("If =1-->Q",A20) -> If =1-->Q211
A19: 210 | B19: هل يحضر الفرد مرة في الاسبوع علي الاقل؟ | C19: 1. نعم 2. لا
A20: 211 | B20: ما هي حالة الفرد الزواجية؟ | C20: 1. أعزب* 2. متزوج 3. مطلق* 4. أرمل* 5. منفصل* | D20: (For individuals ages 12 and over (check Q206)) If 1 3,4, or 5-->213
A21: 212 | B21: هل الزوج/الزوجة يعيش مع الأسرة؟ اذا كانت الاجابة نعم، اكتب رقم سطر الزوج | C21: 1. نعم 2. لا رقم سطر الزوج/الزوجة |___|___|
A22: 213 | B22: هل يعيش الأب في نفس المسكن؟ اذا كانت الاجابة نعم، اكتب رقم سطر الأب | C22: 1. نعم 2. لا رقم سطر الأب |___|___|
A23: 214 | B23: هل تعيش الأم في نفس المسكن؟ اذا كانت الاجابة نعم، اكتب رقم سطر الأم | C23: 1. نعم 2. لا رقم سطر الأم |___|___|
A24: =A10+1 -> 1003 | B24: هل قام الفرد نفسه بالاجابة؟ | C24: 1. نعم 2. لا 3. غير قادر علي الرد بنفسه | D24: Only allow no response on the third visit, If yes -->2101
A25: =A24+1 -> 1004 | B25: رقم الفرد المستجيب | C25: _____________________ searchable dropdown menu with names and numbers of household members
A27: *VALIDATION: Record GPS Location every 15 minutes throughout the duration of the survey
B29: رقم الزيارة | C29: Date of Visit
B30: الأولي | C30: =A25+1 -> 1005 | D30: اليوم
D31: الشهر
D32: السنة
B33: الثانية | C33: =C30+1 -> 1006 | D33: اليوم
D34: الشهر
D35: السنة
B36: الثالثة | C36: =C33+1 -> 1007 | D36: اليوم
D37: اليوم
D38: الشهر
D39: السنة

Sheet 2.1 Personal Biography
A1: قسم 2: السيرة الذاتية والخلفية العائلية
A2: 1 .2 السيرة الذاتية للفرد (6 سنوات فأكثر بناء علي سؤال 206)
A3: Question # | B3: Question | C3: Type of Question | D3: Validation Rule | F3: 2.1 Individual's Personal Biography Ages 6+ based on Q206
A4: 2101 | B4: تاريخ الميلاد (أذكر الشهر والسنة) [auto-populate from 205 and don't display]
A5: =A4+1 -> 2102 | B5: العمر (بالسنوات الكاملة) [auto-populate from 206 and don't display] | D5: =CONCATENATE("If age is <15, skip to",A29) -> If age is <15, skip to2121
A6: =A5+1 -> 2103 | B6: هل سبق لك الزواج؟ | C6: 1. نعم 2. لا | D6: =CONCATENATE("Skip Pattern If 2-->",A29," Check with household Questionnaire,Q211: - If Q211=1, --> ",A6," =No - If Q211=(2 or 3 or 4 or 5) --> Q",A6,"=Yes") -> Skip Pattern If 2-->2121 Check with household Questionnaire,Q211: - If Q211=1, --> 2103 =No - If Q211=(2 or 3 or 4 or 5) --> Q2103=Yes
A7: =A6+1 -> 2104 | B7: ما هى عدد مرات الزاوج؟ | C7: 1. مرة 2. مرتين 3. ثلاث مرات 4. اربع مرات فأكثر 98- لا يعرف
A8: الزواج الاول
A9: =A7+1 -> 2105 | B9: ما هو شهر و سنة الزواج الاول؟ | C9: أ. الشهر (الشهور السيريانية ) + لايعرف 98 ب. السنة (لايتذكر/لايعرف 9998 & 1930-2016) | D9: =CONCATENATE("If year=9998, --> Q", A10," Otherwise -->",A11," and automatically calculate the age in ",A10," from ", A4, " Validation rule: Q",A9,"must be at least 8+year of birth ") -> If year=9998, --> Q2106 Otherwise -->2107 and automatically calculate the age in 2106 from 2101 Validation rule: Q2105must be at least 8+year of birth
A10: =A9+1 -> 2106 | B10: كم كان عمرك عند أول زواج بالسنوات الكاملة؟ | C10: العمر __|__| ** في حالة لا يعرف أكتب 98 | D10: Textbox accepting integers
A11: =A10+1 -> 2107 | B11: هل انتهي هذا الزواج عن طريق الطلاق أو الترمل؟ | C11: 1. نعم طلاق 2. نعم ترمل 3. لا 98- لا يعرف | D11: =CONCATENATE("Skip Pattern: If 3 or 98 --> Check ", A7, " If Q", A7," =1 or 98 --> Q", A29, " If Q", A7,"> 1--> Q", A14, " If Q",A7,"=1 & Q",A10,"= 1 or 2 --> Check the household Questionnaire”; Q211 should be either 3 or 4") -> Skip Pattern: If 3 or 98 --> Check 2104 If Q2104 =1 or 98 --> Q2121 If Q2104> 1--> Q2109 If Q2104=1 & Q2106= 1 or 2 --> Check the household Questionnaire”; Q211 should be either 3 or 4
A12: =A11+1 -> 2108 | B12: متى انتهي هذا الزواج؟ | C12: Drop down menu (لا يعرف 9998 & 1930-2016) | D12: =CONCATENATE("Skip Pattern: If Q",A7," =1or 98 --> Q",A29, " If Q", A7," >1 --> Q", A14) -> Skip Pattern: If Q2104 =1or 98 --> Q2121 If Q2104 >1 --> Q2109
A13: الزواج الثانى
A14: =A12+1 -> 2109 | B14: ما هو شهر و سنة الزواج الثانى؟ | C14: أ. الشهر (الشهور السيريانية ) + لايعرف 98 ب. السنة (لايعرف 9998 & 1930-2016) | D14: =CONCATENATE("If year=9998, --> Q", A15," Otherwise -->",A16," and automatically calculate the age in ",A15," from ", A$4) -> If year=9998, --> Q2110 Otherwise -->2111 and automatically calculate the age in 2110 from 2101
A15: =A14+1 -> 2110 | B15: كم كان عمرك عند زواجك الثاني بالسنوات الكاملة؟ | C15: العمر __|__| ** في حالة لا يعرف أكتب 98 | D15: Textbox accepting numbers
A16: =A15+1 -> 2111 | B16: هل انتهي هذا الزواج عن طريق الطلاق أو الترمل؟ | C16: 1. نعم طلاق 2. نعم ترمل 3. لا 98- لا يعرف | D16: =CONCATENATE("Skip Pattern: If 3 or 98 --> Check ", A$7, " If Q", A$7," =2 --> Q", A$29, " If Q", A$7,"> 2--> Q", A19,) -> Skip Pattern: If 3 or 98 --> Check 2104 If Q2104 =2 --> Q2121 If Q2104> 2--> Q2113
A17: =A16+1 -> 2112 | B17: متى انتهي هذا الزواج؟ | C17: Drop down menu (لا يعرف 9998 & 1930-2016) | D17: =CONCATENATE("Skip Pattern: Check ", A$7, " If Q", A$7," =2 --> Q", A$29, " If Q", A$7,"> 2--> Q", A19,) -> Skip Pattern: Check 2104 If Q2104 =2 --> Q2121 If Q2104> 2--> Q2113
A18: الزواج الثالث
A19: =A17+1 -> 2113 | B19: ما هو شهر و سنة الزواج الثالث؟ | C19: أ. الشهر (الشهور السيريانية ) + لايعرف 98 ب. السنة (لايعرف 9998 & 1930-2016) | D19: =CONCATENATE("If year=9998, --> Q", A20," Otherwise -->",A21," and automatically calculate the age in ",A20," from ", A$4) -> If year=9998, --> Q2114 Otherwise -->2115 and automatically calculate the age in 2114 from 2101
A20: =A19+1 -> 2114 | B20: كم كان عمرك عند زواجك الثالث بالسنوات الكاملة؟ | C20: العمر __|__| ** في حالة لا يعرف أكتب 98 | D20: Textbox accepting numbers
A21: =A20+1 -> 2115 | B21: هل انتهي هذا الزواج عن طريق الطلاق أو الترمل؟ | C21: 1. نعم طلاق 2. نعم ترمل 3. لا 98- لا يعرف | D21: =CONCATENATE("Skip Pattern: If 3 or 98 --> Check ", A$7, " If Q", A$7," =3 --> Q", A$29, " If Q", A$7,"> 3--> Q", A24,) -> Skip Pattern: If 3 or 98 --> Check 2104 If Q2104 =3 --> Q2121 If Q2104> 3--> Q2117
A22: =A21+1 -> 2116 | B22: متى انتهي هذا الزواج؟ | C22: Drop down menu (لا يعرف 9998 & 1930-2016) | D22: =CONCATENATE("Skip Pattern: Check ", A$7, " If Q", A$7," =3 --> Q", A$29, " If Q", A$7,"> 3--> Q", A24,) -> Skip Pattern: Check 2104 If Q2104 =3 --> Q2121 If Q2104> 3--> Q2117
A23: الزواج الرابع
A24: =A22+1 -> 2117 | B24: ما هي سنة الزواج الرابع؟ | C24: أ. الشهر (الشهور السيريانية ) + لايعرف 98 ب. السنة (لايعرف 9998 & 1930-2016) | D24: =CONCATENATE("If year=9998, --> Q", A25," Otherwise -->",A26," and automatically calculate the age in ",A25," from ", A$4) -> If year=9998, --> Q2118 Otherwise -->2119 and automatically calculate the age in 2118 from 2101
A25: =A24+1 -> 2118 | B25: كم كان عمرك عند زواجك الرابع بالسنوات الكاملة؟ | C25: العمر __|__| ** في حالة لا يعرف أكتب 98 | D25: Textbox accepting numbers
A26: =A25+1 -> 2119 | B26: هل انتهي هذا الزواج عن طريق الطلاق أو الترمل؟ | C26: 1. نعم طلاق 2. نعم ترمل 3. لا 98- لا يعرف | D26: =CONCATENATE("Skip Pattern: If 3 or 98 -->",A29) -> Skip Pattern: If 3 or 98 -->2121
A27: =A26+1 -> 2120 | B27: متى انتهي هذا الزواج؟ | C27: Drop down menu (لا يعرف 9998 & 1930-2016)
A28: سنوات التعليم
A29: =A27+1 -> 2121 | B29: ما هي سنة بداية التعليم لأول مرة؟ ** اختر لا ينطبق في حالة عدم ذهابه الي التعليم اطلاقا ** تعتبر بداية التعليم هي بداية ألتحاق الفرد بالصف الاول الأبتدائي | C29: Drop down menu (1930-2016 لا يعرف 9998 لا ينطبق 9999) | D29: =CONCATENATE("If 9999 --> Q", A46," If 9998 -->",A30," Otherwise -->",A31, " and automatically calculate age") -> If 9999 --> Q2135 If 9998 -->2122 Otherwise -->2123 and automatically calculate age
A30: =A29+1 -> 2122 | B30: كم كان عمرك عندما بدأت التعليم لأول مرة؟ | C30: العمر __|__| ** في حالة لا يعرف أكتب 98
A31: =A30+1 -> 2123 | B31: هل انقطعت عن التعليم لمدة أكثر من 6 أشهر ثم رجعت إليه؟ | C31: 1. نعم 2. لا 98- لا يعرف | D31: =CONCATENATE("Skip Pattern: If 2 or 98 --> Q",A36) -> Skip Pattern: If 2 or 98 --> Q2127
A32: =A31+1 -> 2124 | B32: كم مرة انقطعت عن التعليم لمدة أكثر من 6 أشهر ثم رجعت إليه؟ | C32: 1. مرة 2. مرتين 3. أكثر من مرتين 98- لا يعرف | D32: =CONCATENATE("Skip Pattern: If 98 --> Q",A36 ) -> Skip Pattern: If 98 --> Q2127
B33: الانقطاع لمرة واحدة
A34: =A32+1 -> 2125 | B34: ما هي سنة الأنقطاع عن التعليم لأول مرة؟ | C34: Dropdown menu (1930-2016, لايعرف: 9998)
A35: =A34+1 -> 2126 | B35: ما هي سنة الرجوع للتعليم بعد الأنقطاع الأول؟ | C35: Dropdown menu (1930-2016, لا يعرف 9998) | D35: =CONCATENATE("Skip Pattern: If Q", A32,"=2 or =3 --> Q",A40) -> Skip Pattern: If Q2124=2 or =3 --> Q2130
A36: =A35+1 -> 2127 | B36: هل أنت ملتحق حاليا بالتعليم؟ | C36: 1. نعم 2. لا | D36: =CONCATENATE("Skip Pattern: If 1 --> Q",A46) -> Skip Pattern: If 1 --> Q2135
A37: =A36+1 -> 2128 | B37: ما هي سنة الانتهاء أو ترك التعليم؟ | C37: Dropdown menu (1930-2016 لا يعرف : 9998 | D37: =CONCATENATE("If 9998 -->",A38, " Otherwise --> Q",A46, " and automatically calculate age of school completion") -> If 9998 -->2129 Otherwise --> Q2135 and automatically calculate age of school completion
A38: =A37+1 -> 2129 | B38: كم كان عمرك عندما انتهيت من التعليم؟ | C38: العمر __|__| ** في حالة لا يعرف أكتب 98 | D38: =CONCATENATE("After answering --> Q", A46) -> After answering --> Q2135
B39: الانقطاع لمرتين فأكثر
A40: =A38+1 -> 2130 | B40: ما هي سنة الأنقطاع عن التعليم للمرة الثانية؟ | C40: Dropdown menu (1930-2016, لا يعرف 9998)
...

Sheet 2.2 Father's characteristics
A1: قسم 2: السيرة الذاتية والخلفية العائلية
A2: 2.2 بيانات الأباء (6 سنوات فأكثر بناء علي سؤال 206)
A3: Question # | B3: Question | C3: Type of Question | D3: Validation
A4: 2201 | B4: هل الأب يعيش في نفس الأسرة؟[auto-populate from 213] | C4: 1. نعم 2. لا 98- لا يعرف | D4: =CONCATENATE("Verify with housheold questionniare If 1 -->",A5, " If 2 or 98 -->",A6) -> Verify with housheold questionniare If 1 -->2202 If 2 or 98 -->2203
A5: =A4+1 -> 2202 | B5: رقم سطر الأب [auto-populate from 213] | C5: Dropdown menu with the names (or given numbers) of members of the household | D5: Link with other Questionnaires household Questionnaire Verify with household questionnaire response - The names of the household members with their given serial number should be included in the dropdown menu Skip Pattern: After answering --> next section
A6: =A5+1 -> 2203 | B6: في أي سنة ولد الأب؟ | C6: Drop down menu 1850-2016 لا يعرف 9998
A7: =A6+1 -> 2204 | B7: ما هو أعلى مستوى تعليمي أكمله الأب بنجاح؟ | C7: 1- أمي
C8: 2- ملم
C9: 3- إبتدائي
C10: 4- إعدادي
C11: 5- أساسي
C12: 6- تلمذة المهنية
C13: 7- ثانوي
C14: 8- دبلوم متوسط
C15: 9- بكالوريوس
C16: 10- دبلوم عالي
C17: 11- ماجستير
C18: 12- دكتوراه
C19: 98- لا يعرف
A20: =A7+1 -> 2205 | B20: ماهي الحالة العملية للأب عندما كان عمرك 15 سنة ؟ ** إذا كان الأب متوفي في ذلك الحين يسأل عن أخر عمل للأب قبل الوفاة ** اذا كان الفرد أقل من 15 سنة، يسأل عن الحالة العملية الحالية للأب | C20: Dropdown menu with the following choices: | D20: Skip Pattern: If 7 or 98 --> next section
C21: 1. يعمل باجر في عمل منتظم
C22: 2. يعمل باجر في عمل غير منتظم
C23: 3. صاحب عمل و يستخدم آخرين
C24: 4. يعمل لحسابه و لا يستخدم آخرين
C25: 5. يعمل لدى الأسرة بدون أجر
C26: 6. يعمل لدي الغير بدون أجر
C27: 7. لا يعمل
C28: 98. لا يعرف
A29: =A20+1 -> 2206 | B29: ما هي المهنة الرئيسية التي يقوم بها والدك عندما كان عمرك 15 سنة ؟ ** إذا كان الأب متوفي في ذلك الحين يسأل عن أخر عمل للأب قبل الوفاة ** اذا كان الفرد أقل من 15 سنة، يسأل عن المهنة الحالية للأب | C29: المهنة: ** أكتب "لا يعرف" في حالة لا يعرف
A30: =A29+1 -> 2207 | B30: ما هو القطاع الذي كان يعمل به والدك عندما كان عمرك 15 سنة ؟ ** إذا كان الأب متوفي في ذلك الحين يسأل عن أخر عمل للأب قبل الوفاة ** اذا كان الفرد أقل من 15 سنة، يسأل عن القطاع الحالي للعمل. | C30: 1. عام حكومي | D30: If 97, provide a textbox
C31: 2. عام إنتاجي
C32: 3. خاص
C33: 4. هيئة دولية
C34: 97- أخري
C35: 98- لا يعرف

Sheet 2.3 Mother's characteristics
A1: قسم 2: السيرة الذاتية والخلفية العائلية
A2: 2.3 بيانات الأمهات (6 سنوات فأكثر بناء علي سؤال 206)
A3: Question # | B3: Question | C3: Type of Question | D3: Validation
A4: 2301 | B4: هل الام تعيش في نفس الأسرة؟ [autopopulate from 214] | C4: 1. نعم 2. لا 98-لا يعرف | D4: =CONCATENATE("Verify with housheold questionniare If 1 -->",A5, " If 2 or 98 -->",A6) -> Verify with housheold questionniare If 1 -->2302 If 2 or 98 -->2303
A5: =A4+1 -> 2302 | B5: رقم سطر الأم [autopopulate from 214] | C5: Dropdown menu with the names (+ given numbers) of members of the houshold | D5: Link with other Questionnaires household Questionnaire Verify with household questionnaire response - The names of the household members with their given serial number should be included in the dropdown menu Skip Pattern: After answering --> next section
A6: =A5+1 -> 2303 | B6: في أي سنة ولدت الأم؟ | C6: Drop down menu 1850-2016 لا يعرف 9998
A7: =A6+1 -> 2304 | B7: ما هو أعلى مستوى تعليمي أكملته الام بنجاح؟ | C7: 1- امي
C8: 2- ملم
C9: 3- إبتدائي
C10: 4- إعدادي
C11: 5- أساسي
C12: 6- تلمذة المهنة
C13: 7- ثانوي
C14: 8- دبلوم متوسط
C15: 9- بكالوريوس
C16: 10- دبلوم عالي
C17: 11- ماجستير
C18: 12- دكتوراه
C19: 98- لا يعرف
A20: =A7+1 -> 2305 | B20: ما هي الحالة العملية للأم عندما كان عمرك 15 سنة؟ **اذا كانت الأم متوفية في ذلك الحين، يسأل عن آخر عمل للأم قبل الوفاة ** اذا كان الفرد أقل من 15 عام، يسأل عن الحالة العملية الحالية للام. | C20: Dropdown menu with the following choices: | D20: Skip Pattern: If answer is 7 or 98 --> next section
C21: 1- تعمل باجر في عمل منتظم
C22: 2- تعمل باجر في عمل غير منتظم
C23: 3- صاحبة عمل و يستخدم آخرين
C24: 4- تعمل لحسابها و لا تستخدم آخرين
C25: 5- تعمل لدى الأسرة بدون أجر
C26: 6- تعمل لدي الغير بدون أجر
C27: 7- لا يعمل
C28: 98- لا يعرف
A29: =A20+1 -> 2306 | B29: ما هي المهنة الذي كانت تعمل به والدتك عندما كان عمرك 15 سنة ؟ **اذا كانت الأم متوفية في ذلك الحين، يسأل عن آخر عمل للأم قبل الوفاة ** اذا كان الفرد أقل من 15 عام، يسأل عن عمل الأم الحالي | C29: المهنة ** أكتب "لا يعرف" في حالة لا يعرف
A30: =A29+1 -> 2307 | B30: ما هو القطاع الذي كانت تعمل به والدتك عندما كان عمرك 15 سنة؟ **اذا كانت الأم متوفية في ذلك الحين، يسأل عن آخر عمل للأم قبل الوفاة ** اذا كان الفرد أقل من 15 عام، يسأل عن عمل الأم الحالي | D30: If 97, provide a textbox
C31: 1- عام حكومي
C32: 2- عام إنتاجي
C33: 3- خاص
C34: 4- هيئة دولية
C35: 97- أخري
C36: 98- لا يعرف

Sheet 2.4 Siblings
B1: قسم 2: السيرة الذاتية والخلفية العائلية
A2: 2.4 بيانات (الأخوة / الأخوات) سواء موجودين حاليا في الأسرة أو لا
D3: (6 سنوات فأكثر بناء علي سؤال 206)
A4: Question # | B4: Question | C4: Question Type | D4: Validation
A5: 2401 | B5: كم عدد الاخوة / الاخوات الذين هم على قيد الحياة الآن؟ (الأشقاء وغير الأشقاء) | C5: ذكور : |___|___| إناث: |___|___| | D5: =CONCATENATE("Provide numerical textboxes or drop down menus Skip Pattern: If sum of Males and females = 0 --> Q", A14, " If age<15, -->Q",A14) -> Provide numerical textboxes or drop down menus Skip Pattern: If sum of Males and females = 0 --> Q2411 If age<15, -->Q2411
A6: 2402 | B6: هل قام أي من اخوتك أو اخواتك من غير أعضاء الأسرة الحالية بالسفر الى خارج البلاد و لم يعد حتى الآن؟ | C6: 1. نعم 2. لا 98- لا يعرف | D6: =CONCATENATE(" If 2 or 98 --> Q", A14) -> If 2 or 98 --> Q2411
A7: 2403 | B7: كم عدد اخوتك و اخواتك من غير افراد الاسرة الذين هاجروا (الموجودين حاليا في الخارج)؟ | C7: ذكور |___|___| إناث |___|___| | D7: Provide numerical textboxes or drop down menus
A9: =A7+1 -> 2404 | B9: =A9+1 -> 2405 | C9: =B9+1 -> 2406 | D9: =C9+1 -> 2407 | E9: =D9+1 -> 2408 | F9: =E9+1 -> 2409 | G9: =F9+1 -> 2410
A10: رقم المسافر | B10: اسم المسافر | C10: جنس الشخص المسافر | D10: هل سافر هذا الشخص مع اسرته بالكامل؟ | E10: كم عدد الافراد الذين سافروا معه؟ | F10: في أي بلد يعيش حاليا هذا الفرد؟ | G10: في أي سنة غادر هذ الشخص الأردن لأول مرة؟
A11: 1 | C11: 1. ذكر 2. أنثى | D11: 1. نعم 2. لا 98- لا يعرف | E11: Dropdown menu from (1-15), + 98 لا يعرف | F11: List of the world countries | G11: Dropdown menu (1930-2016, +998 لا يعرف)
A12: 2 | D12: =CONCATENATE("If Q",D9,"=2 or 98-->Q",F9) -> If Q2407=2 or 98-->Q2409 | G12: =CONCATENATE("Number of rows equals the sum of males and females provided in ",A7) -> Number of rows equals the sum of males and females provided in 2403
A14: =G9+1 -> 2411 | B14: هل لك أخوة أو أخوات توفوا؟ | C14: 1. نعم 2. لا 98-لا يعرف | D14: =CONCATENATE(" If 2 or 98 --> Q",A20 ) -> If 2 or 98 --> Q2417
A15: =A14+1 -> 2412 | B15: كم عدد الأخوة المتوفون؟ | C15: ذكور : |___|___| إناث: |___|___| | D15: Provide numerical textboxes or drop down menus
A16: =A15+1 -> 2413 | B16: هل توفي أحد أخوتك قبل ان يبلغ من العمر خمس سنوات؟ | C16: 1. نعم 2. لا 98- لا يعرف | D16: =CONCATENATE(" If 2 or 98 --> Q",A18) -> If 2 or 98 --> Q2415
A17: =A16+1 -> 2414 | B17: كم عدد الأخوة المتوفين قبل بلوغ سن 5 سنوات؟ | C17: ذكور: |___|___| إناث: |___|___| في حالة لا يعرف، أكتب 98 | D17: Provide numerical textboxes or drop down menus
A18: =A17+1 -> 2415 | B18: هل توفي أحد أخوتك بعد 2010؟ | C18: 1. نعم 2. لا 98- لا يعرف | D18: =CONCATENATE("If 2 or 98 --> Q",A20) -> If 2 or 98 --> Q2417
A19: =A18+1 -> 2416 | B19: كم عدد الأخوة المتوفين بعد 2010؟ | C19: ذكور: |___|___| إناث: |___|___| في حالة لا يعرف، أكتب 98 | D19: Provide numerical textboxes or drop down menus
A20: =A19+1 -> 2417 | B20: ماهو ترتيبك بين إخوتك جميعا عند الميلاد بما فيهم الذين توفوا (إن وجد)؟ | C20: Dropdown menu from (الاول- الخامس عشر)+ لا يعرف 98
A21: =A20+1 -> 2418 | B21: ماهو ترتيبك بين إخوتك من نفس النوع عند الميلاد؟ | C21: Dropdown menu from (الاول- الخامس عشر)+ لا يعرف 98

Sheet 2.5 Health
B1: قسم 2: السيرة الذاتية والخلفية العائلية
A2: 2.5 بيانات عن الصحة
C3: (6 سنوات فأكثر بناء علي سؤال 206)
A4: Question # | B4: Question | C4: Type of Question | D4: Validation
A5: 2501 | B5: كيف ترى صحتك بشكل عام؟ | C5: 1- جيدة جدّا/ ممتازة 2- جيدة 3- مقبولة 4- سيئة 5- سيئة جدّا 98-لايعرف
A6: =A5+1 -> 2502 | B6: هل أنت مشترك أو مستفيد من أي تأمين صحي أو علاج؟ إذا نعم ما هو نوع هذا التامين؟ (إذا كان لديه أكثر من تأمين، سجّل التأمين الذي تعتمد عليه أكثر) | C6: 1- لا يوجد تأمين صحي 2- نعم، وزارة الصحة 3- نعم، الخدمات الطبية الملكية 4- نعم، مستشفيات الجامعات/ المدينة الطبية 5- نعم، وكالة الغوث 6- نعم، تأمين خاص 97- نعم، أخرى (حدد) 98-لايعرف | D6: If 97 --> provide a textbox
A7: =A6+1 -> 2503 | B7: أين تذهب عندما تكون مريض أو تحاول الحصول علي استشارة طبية؟ ** اسأل علي أكثر وسيلة مستخدمة | C7: 1.لا أذهب إلي أي مكان 2. طب عربي 3. الصيدلية 4. مستشفي/ عيادة حكومي 5. مستشفي/ عيادة خاص 6. مستشفي/ عيادة تابع لمسجد/كنيسة 7.عيادة تابعة لمنظمة دولية أو جمعية أهلية 97. أخري (حدد) | D7: If 97 --> provide a textbox
A8: =A7+1 -> 2504 | B8: هل لديك أي مرض طويل المدى أو مرض مزمن؟ | C8: 1. نعم 2. لا 98-لايعرف | D8: =CONCATENATE(" If 2 or 98 -->Q",A10 ) -> If 2 or 98 -->Q2506
A9: =A8+1 -> 2505 | B9: ما هي الأمراض؟ (الترتيب حتى ثلاث أمراض من الأخطر إلى الأقل خطورة) | C9: المرض الأول المرض الثاني المرض الثالث 1- إرتفاع ضغط الدم 2- إلتهاب المفاصل 3- مرض السكري 4- الربو 5- إلتهاب الشعب الهوائية المزمن 6- القرح 7- مرض نفسي 8- التصلب المتعدد 9- فقر الدم 10- ورم خبيث 11- إلتهاب الكبد (فيرس c) 12-إسهال 97- أخرى (حدّد) 98- لا يعرف 99- لا ينطبق | D9: Validation: Once the person picks an answer, it should disappear from the following dropdown menus. If 97, provide textbox 99 available only for second and third disease
A10: =A9+1 -> 2506 | B10: هل لديك أي إعاقة ذهنية أو بدنية؟ | C10: 1. نعم 2. لا 98-لايعرف | D10: =CONCATENATE(" If 2 or 98 -->Q",A14) -> If 2 or 98 -->Q2510
A11: =A10+1 -> 2507 | B11: ماهي أهم إعاقة؟ | C11: 1- إعاقة تعلم (ذهنية) 2- إعاقة حركية (بدنية) 3- إعاقة بصرية 4- إعاقة سمعية 5- بكم 97-أخرى (حدّد) 98-لايعرف | D11: If 97 --> provide a textbox
A12: =A11+1 -> 2508 | B12: هل لديك مرض أو إعاقة أثر علي قيامك بالأنشطة المعتادة لمدة 6 أشهر فأكثر؟ | C12: 1. نعم، أثر بشدة 2. نعم، أثر نوعا ما 3. لا 98. لا يعرف
A13: =A12+1 -> 2509 | B13: كم مرة تناولت ثلاث وجبات كاملة يوميا خلال ال 12 شهر الماضية (باستثناء الاحتفالات) | C13: 1. تقريبا كل يوم (3وجبات في اليوم) 2. عادة/غالبا (3 وجبات في اليوم لاكثر من مرة في الأسبوع) 3. أحيانا ( 3 وجبات في اليوم 7-12 مرة في السنة) 4. نادرا (3 مرات يوميا - 1-6 مرات في السنة) 5. لا مرة
A14: =A13+1 -> 2510 | B14: في خلال ال 12 شهر الماضية، كم مرة اضطررت ان تتخلي عن/الا تتناول وجبات طعام بأكملها (سواء فطار، غداء، عشاء) بسبب ندرة الطعام المتاح؟ | C14: 1. ابدا 2. نادرا (1-6 مرات في السنة) 3. أحيانا (7-12 مرة في السنة) 4. غالبا ( بضع مرات كل شهر) 5. مغظم الوقت (أغلب ايام الاسبوع)
A15: =A14+1 -> 2511 | B15: في خلال ال 12 شهر الماضية، كم مرة اضطررت ان تأكل وجبة بكمية أقل من المعتاد بسبب ندرة الطعام المتاح؟ | C15: 1. ابدا 2. نادرا (1-6 مرات في السنة) 3. أحيانا (7-12 مرة في السنة) 4. غالبا ( بضع مرات كل شهر) 5. معظم الوقت (أغلب ايام الاسبوع)

Sheet 3.0 Education
A1: 3- بــيـــانــــات التعليــــــم
C2: ينطبق هذا الفصل على جميع أفراد الأسرة المعيشية 6 سنوات فأكثر بناء علي سؤال 206.
A3: Question # | B3: Question | C3: Type of Question | D3: Validation & Skip Patterns
A4: 3001 | B4: هل الفرد ملتحق حاليا أو سبق له الإلتحاق بمؤسسة تعليمية؟ | C4: 1- لم يلتحق على الإطلاق 2- نعم سبق له الإلتحاق 3- نعم ملتحق حاليا | D4: =CONCATENATE("Skip Pattern: if 1 -->",A5," if 2-->",A6," if 3-->",A9," Question Validation If 1 --> Q",'2.1 Personal Biography'!A29, " should be 9999 N/A ") -> Skip Pattern: if 1 -->3002 if 2-->3003 if 3-->3006 Question Validation If 1 --> Q2121 should be 9999 N/A
A5: =A4+1 -> 3002 | B5: ما هو سبب عدم الالتحاق بالدراسة؟(السبب الرئيسي) | C5: Dropdown Menu: 1- عدم وجود مدرسة 2- الرسوم مرتفعة 3- المدرسة بعيدة/ غير متوفرة 4- فقر الأسرة 5- تفكك الاسرة 6- العجز / المرض / الاعاقة 7- صعوبة المواصلات 8- الزواج 9- العناية بالأسرة /المساعدة في الاعمال المنزلية 10- لم أكن موفقاً في الدراسة 11- لم ارغب في الدراسة 12- العمل 13- عدم رغبة الاهل 14- العادات والتقاليد 15- العنف/غياب الأمن/الحرب 98- لا يعرف 97- اخرى (حدد)........................ | D5: =CONCATENATE("If 97, provide textbox Skip Pattern After answering --> Q",A80) -> If 97, provide textbox Skip Pattern After answering --> Q3073
A6: =A5+1 -> 3003 | B6: لماذا ترك الفرد الدراسة ؟ | C6: السبب الرئيسي : (dropdown menu) السبب الثانوي: (dropdown menu) *Dropdown menus include the following options: Choices of the dropdown menu are: 1- أنهاء مراحل التعليم 2- العجز / المرض / الاعاقة 3- فقر الأسرة 4- تفكك الاسرة 5- المدرسة بعيدة / غير متوفرة 6- صعوبة المواصلات 7- الزواج 8- العناية بالأسرة /المساعدة في الاعمال المنزلية 9- لم أكن موفقاً في الدراسة 10- لم ارغب في الاستمرار 11- العمل 12- الرسوم مرتفعة 13- الحمل والإنجاب 14- سوء المعاملة في المدرسة 15- العادات والتقاليد 16- تكرار الرسوب 17- العنف/ غياب الأمن/الحرب 97- اخرى (حدد) 98-لايعرف 99. لا ينطبق (second reason only) | D6: =CONCATENATE("If 97, provide textbox If age in ", '2.1 Personal Biography'!A5,"< 42 --> Q",A9) -> If 97, provide textbox If age in 2102< 42 --> Q3006
A7: =A6+1 -> 3004 | B7: ماهي أعلى مرحلة من التعليم وصلت إليها؟ و ما هو آخر عام دراسي أتممته بنجاح في هذه المرحلة؟ | C7: المرحلة Dropdown menu with the following options: 1- ابتدائي 2- اعدادي 3- أساسي 4- تلمذة مهنية 5- ثانوي 6- دبلوم متوسط (كلية مجتمع) 7- بكالوريوس 8- دبلوم عالي 9- ماجيستير 10- دكتوراه | D7: =CONCATENATE("Range for the grade should be: 0-6 if primary 0-3 if preparatory 0-10 if basic 0-2 if vocational, secondary, or intermediate diploma 0-6 if Bachelor's"," 0-3 if post-graduate diploma 0-4 MA 0-10 PhD Lock survey from continuing until the year has been entered. Skip pattern: if 1, 2, 3, or 4 --> Q", A79) -> Range for the grade should be: 0-6 if primary 0-3 if preparatory 0-10 if basic 0-2 if vocational, secondary, or intermediate diploma 0-6 if Bachelor's 0-3 if post-graduate diploma 0-4 MA 0-10 PhD Lock survey from continuing until the year has been entered. Skip pattern: if 1, 2, 3, or 4 --> Q3072
A8: =A7+1 -> 3005 | B8: ما هي الشهادة و التخصّص الذي تحصلت عليه؟ | C8: الشهادة dropdown menu with the following options: 1. ثانوي 2- دبلوم متوسط (كلية مجتمع) 3- بكالوريوس 4- دبلوم عالي 5- ماجيستير 6- دكتوراه 98- لا يعرف 97- أخري Two hierarchical dropdown menus: التخصص إن وجد (level 2) التخصص إن وجد (Level 5) | D8: =CONCATENATE("Dropdown menu with the certificate specialization codes & 9999 for not applicable If 97, provide textbox After answering --> Q",A79) -> Dropdown menu with the certificate specialization codes & 9999 for not applicable If 97, provide textbox After answering --> Q3072
A9: =A8+1 -> 3006 | B9: ماهي أعلى مرحلة من التعليم وصلت إليها؟ و ما هو آخر عام دراسي أتممته بنجاح في هذه المرحلة؟ | C9: المرحلة Dropdown menu with the following options: 1- أساسي 2- تلمذة مهنية 3- ثانوي 4- دبلوم متوسط (كلية مجتمع) 5- بكالوريوس 6- دبلوم عالي 7- ماجستير 8- دكتوراة | D9: =CONCATENATE("*Range for the grade should be: 0-10 if basic 0-2 if vocational, secondary, or intermediate diploma 0-6 if Bachelor's 0-3 if post-graduate diploma"," 0-4 MA 0-10 PhD Lock survey from continuing until the year has been entered. Skip pattern: If 1 --> Q", A40," If 2 or 3 --> Q",A26," If 4 or 5 --> Q",A16) -> *Range for the grade should be: 0-10 if basic 0-2 if vocational, secondary, or intermediate diploma 0-6 if Bachelor's 0-3 if post-graduate diploma 0-4 MA 0-10 PhD Lock survey from continuing until the year has been entered. Skip pattern: If 1 --> Q3037 If 2 or 3 --> Q3023 If 4 or 5 --> Q3013
A10: =A9+1 -> 3007 | B10: ما نوع الجامعة التى اكملت بها دراستك العليا؟ | C10: 1- حكومى 2- خاص 4- خارج الاردن 98-لايعرف | D10: =CONCATENATE("If 4 --> ",A12," if 98 -->",A13) -> If 4 --> 3009 if 98 -->3010
A11: =A10+1 -> 3008 | B11: ما هو إسم الجامعة التي أعددت (أو تعد) بها دراستك العليا (ما بعد البكالوريوس)؟ | C11: Dropdown menu with names of universities found in Jordan 97 أخري (حدد) 98 لا يعرف | D11: =CONCATENATE("Hierarchical ( and searchable) dropdown menu based on answer in ",A10," Validation: If the choice was not provided, the person should select 97, other. Skip Pattern: after answering -->",A13) -> Hierarchical ( and searchable) dropdown menu based on answer in 3007 Validation: If the choice was not provided, the person should select 97, other. Skip Pattern: after answering -->3010
A12: =A11+1 -> 3009 | B12: اذكر اسم الدولة التي اعددت بها دراستك العليا: | C12: List of Countries
A13: =A12+1 -> 3010 | B13: ما هي الشهادة و التخصص التي حصلت عليها أو التي ستحصل عليها؟ | C13: الشهادة (dropdown menu with the following options): 1- دبلوم عالي 52- ماجيستير 3- دكتوراه 97- أخري (حدد) 98-لا يعرف Two hierarchical dropdown menus: التخصص (level 2) التخصص (level 5) | D13: =CONCATENATE("if 97 then provide a textbox skip pattern: Check Q",A4,",: If Q",A4,"=3 --> Q",A16," If Q",A4, "=2 --> Q",A14," *Dropdown menu with certification specialization codes, 9997 if other, 9998 if don't know") -> if 97 then provide a textbox skip pattern: Check Q3001,: If Q3001=3 --> Q3013 If Q3001=2 --> Q3011 *Dropdown menu with certification specialization codes, 9997 if other, 9998 if don't know
A14: =A13+1 -> 3011 | B14: في أي عام أكملت دراستك العليا؟ | C14: العام: Dropdown menu {1930-2016}, لايعرف 9998, لا ينطبق 9999 | D14: =CONCATENATE("Check year with Q",'2.1 Personal Biography'!A37," or Q",'2.1 Personal Biography'!A43, " If year given, automatically calculate Q",A15) -> Check year with Q2128 or Q2133 If year given, automatically calculate Q3012
A15: =A14+1 -> 3012 | B15: كم كان عمرك عندما أكملت دراستك العليا؟ | C15: {عمر : {15-90 لا اعرف 98 لا ينطبق 99
A16: =A15+1 -> 3013 | B16: ما نوع هذه الجامعة/ المعهد الذي اتممت (تتم) فيه دراسة البكالوريوس او الدراسة المتوسطة؟ | C16: 1- كلية مجتمع حكومي 2- كلية مجتمع خاص/هيئات دولية 3- جامعة حكومية 4- جامعة خاصة 5- جامعة خارج الأردن 97- أخرى (حدّد) 98-لا يعرف | D16: =CONCATENATE("Skip Pattern: if 4 --> ",A18," If # 97, provide a textbox") -> Skip Pattern: if 4 --> 3015 If # 97, provide a textbox
A17: =A16+1 -> 3014 | B17: ما هي المؤسسة التي درست ( تدرس) فيها سواء كانت جامعة او كلية مجتمع؟ | C17: Dropdown menu with names of universities found in Jordan 97 اخري (حدد) 98 لا يعرف | D17: =CONCATENATE("Hierarchical ( and searchable) dropdown menu based on answer in ",A16," Validation: If the choice was not provided, the person should select 97, other. Skip Pattern: after answering -->",A19) -> Hierarchical ( and searchable) dropdown menu based on answer in 3013 Validation: If the choice was not provided, the person should select 97, other. Skip Pattern: after answering -->3016
A18: =A17+1 -> 3015 | B18: ما هو اسم الدولة؟ | C18: List of Countries
A19: =A18+1 -> 3016 | B19: ما هي الشهادة /التخصص الذي حصلت (ستحصل) عليها؟ | C19: 1. شهادة الكلية 2. امتحان الشامل للدبلوم المتوسط 3. بكالوريوس 97 أخري (حدد) 98-لا يعرف التخصص level 2: ______________ التخصص level 5: ___________________ | D19: =CONCATENATE("if 97 then provide a textbox *Dropdown menu with certification specialization codes, 9997 if other, 9998 if don't know") -> if 97 then provide a textbox *Dropdown menu with certification specialization codes, 9997 if other, 9998 if don't know
A20: =A19+1 -> 3017 | B20: ما هي اللغة الأساسية للتدريس في هذه المؤسّسة أو الجامعة؟ | C20: 1- العربية 2- الفرنسية 3- الانجليزية 97- أخرى (حدّد) 98- لا يعرف | D20: If 97, provide a textbox
A21: =A20+1 -> 3018 | B21: في أي عام بدأت دراستك الجامعية/دبلومك المتوسط؟ | C21: السنة (dropdown) لايعرف 9998 (1930-2016) | D21: =CONCATENATE("If 9998 -->",A22," Otherwise, Check Q",A4,": if Q",A4,"=3 -->",A26," if Q",A4,"=2 -->", A23," Automatically calculate the age if year is not 9998") -> If 9998 -->3019 Otherwise, Check Q3001: if Q3001=3 -->3023 if Q3001=2 -->3020 Automatically calculate the age if year is not 9998
A22: =A21+1 -> 3019 | B22: وكم كان عمرك آنذاك؟ | C22: {عمر : {15-90 لا اعرف 98 | D22: =CONCATENATE(" Check Q",A4,": if Q",A4,"=3 -->",A26," if Q",A4,"=2 -->", A23," Automatically calculate the age if year is not 9998") -> Check Q3001: if Q3001=3 -->3023 if Q3001=2 -->3020 Automatically calculate the age if year is not 9998
A23: =A22+1 -> 3020 | B23: في أي سنة تركت أو حصلت على الشهادة الجامعية أو المتوسطة؟ | C23: السنة (dropdown) لايعرف 9998 (1930-2016) لا ينطبق 9999 | D23: =CONCATENATE("If 9998 -->",A24," If year given, automatically calculate Q",A24) -> If 9998 -->3021 If year given, automatically calculate Q3021
A24: =A23+1 -> 3021 | B24: كم كان عمرك آنذاك؟ | C24: {عمر : {15-90 لا اعرف 98 لا ينطبق 99
A25: =A24+1 -> 3022 | B25: ما هو التقدير الذى تحصلت عليه في نهاية دراستك الجامعية أو المتوسطة ؟ | C25: 1- ممتاز 2- جيد جدا 3- جيد 4- مقبول 97- أخرى (حدّد( 98- لا يعرف | D25: If 97, provide a textbox
A26: =A25+1 -> 3023 | B26: أين كانت مدرستك الثانوية؟ | C26: 1- داخل الاردن 2- خارج الاردن 98- لا يعرف | D26: =CONCATENATE("If 2 --> Q",A28,"; if 98 -->",A30) -> If 2 --> Q3025; if 98 -->3027
A27: =A26+1 -> 3024 | B27: اذكر المحافظة و اللواء: | C27: المحافظة اللواء | D27: =CONCATENATE("Provide hierarchical dropdown menus for governorate and district. After answering -->",A29) -> Provide hierarchical dropdown menus for governorate and district. After answering -->3026
A28: =A27+1 -> 3025 | B28: اذكر اسم الدولة | C28: الدولة (dropdown list of countries) | D28: =CONCATENATE("After answering -->",A30) -> After answering -->3027
A29: =A28+1 -> 3026 | B29: ما هو اسم مدرستك الثانوية ؟ | C29: dropdown menu with the names of secondary schools found in Jordan لا يعرف = 9998 | D29: =CONCATENATE("*List only the schools found in the governorate selected in ",A27) -> *List only the schools found in the governorate selected in 3024
A30: =A29+1 -> 3027 | B30: ما هو قطاع المدرسة الثانوية التي ذهبت إليها؟ | C30: 1- حكومي 2- خاص 97 - اخرى (حدد) 98-لايعرف | D30: =CONCATENATE(" If 97, provide a textbox If Q",A9,"=2-->Q",A33) -> If 97, provide a textbox If Q3006=2-->Q3030
A31: =A30+1 -> 3028 | B31: هل كانت دراستك الثانوية اكاديمية أم مهنية ؟ | C31: 1- اكاديمية 2- مهنية 98-لايعرف | D31: =CONCATENATE("Skip Pattern If 2--> Q",A33) -> Skip Pattern If 2--> Q3030
A32: =A31+1 -> 3029 | B32: ما هو التخصّص في المرحلة الثانوية الأكاديمية؟ | C32: 1- علمي 2- ادبي 3- شرعي 4- ادارة معلومات 97- أخري (حدد) 98-لايعرف | D32: =CONCATENATE("If 97, provide a textbox Skip Pattern: Check Q", A4, " If Q",A4,"= 3 & Q",A9,"=2 or 3--> Q",A37, " If Q",A4,"= 3 & Q",A9,"=4-8--> Q",A34, " If Q",A4,"=2 --> Q",A34) -> If 97, provide a textbox Skip Pattern: Check Q3001 If Q3001= 3 & Q3006=2 or 3--> Q3034 If Q3001= 3 & Q3006=4-8--> Q3031 If Q3001=2 --> Q3031
A33: =A32+1 -> 3030 | B33: ما هو التخصّص في المرحلة الثانوية المهنية؟ | C33: 1- تجاري 2- تمريضي 3- صناعي 4- زراعي 5- كهرباء 6- ميكانيكا 7- اقتصاد منزلي 8- بريدي 9- فندقي 10- تجميل 11- خياطة 12- تربية طفل 13- تعليم صحي 97- أخري 98-لا يعرف | D33: =CONCATENATE("If 97, provide a textbox Skip Pattern: Check Q", A4, " If Q",A4,"= 3 & Q",A9,"=2 or 3--> Q",A37, " If Q",A4,"= 3 & Q",A9,"=4-8--> Q",A34, " If Q",A4,"=2 --> Q",A34) -> If 97, provide a textbox Skip Pattern: Check Q3001 If Q3001= 3 & Q3006=2 or 3--> Q3034 If Q3001= 3 & Q3006=4-8--> Q3031 If Q3001=2 --> Q3031
A34: =A33+1 -> 3031 | B34: ما هو المعدّل النهائي الذي حصلت عليه في نهاية إمتحانات الثانوية العامة؟ | C34: النتيجة : ___ ___ ___ ** في حالة راسب اكتب (996) ** في حالة لم يدخل الامتحان اكتب (999) ** في حالة لا يعرف 998 ** في حالة النتيجة النهائية كتب الدرجة المئوية | D34: Max 3-digit number
A35: =A34+1 -> 3032 | B35: في أي سنة تركت أو تخرجت من المدرسة الثانوية؟ | C35: السنة Dropdown menu {1930-2016, 9998 لا يعرف , لا ينطبق 9999} | D35: =CONCATENATE("If 9998 -->",A36," If year given, automatically calculate Q",A36) -> If 9998 -->3033 If year given, automatically calculate Q3033
A36: =A35+1 -> 3033 | B36: كم كان عمرك حين انهيت المدرسة الثانوية؟ | C36: العمر : {15-90, 98 لا يعرف, لا ينطبق99}
A37: =A36+1 -> 3034 | B37: هل (كنت) تستخدم أجهزة حاسوب في مدرستك الثانوية؟ | C37: 1- يوميا 2- بشكل مستمر 3- أحيانا 4- نادرا 5- مطلقاً 98-لايعرف 99. لا ينطبق (في حالة عدم وجود أجهزة حاسوب)
A38: =A37+1 -> 3035 | B38: هل ( كانت) مدرستك الثانوية تعمل بنظام الفترات الصباحية و المسائية ؟ | C38: 1. نعم 2. لا 98-لايعرف
A39: =A38+1 -> 3036 | B39: هل (كان) التلاميذ يتعرضوا للعقاب البدني (الضرب) في المدرسة الثانوية؟ | C39: 1- يوميا 2- بشكل مستمر 3- أحيانا 4- نادرا 5- مطلقاً 98-لايعرف
A40: =A39+1 -> 3037 | B40: اين كانت مدرستك الاساسية؟ | C40: 1. داخل الاردن 2. خارج الاردن 98-لايعرف | D40: =CONCATENATE("If 2 --> Q",A42,"; if 98 -->",A44) -> If 2 --> Q3039; if 98 -->3041
...

Sheet 4.0 Past 7 days S & D Work
A1: .4 المهام الأسرية في 7 ايام الماضية
A2: (6 سنوات فأكثر بناء علي سؤال 206)
A3: Question # | B3: Question | C3: Type of Question | E3: Validation & Skip Patterns
D4: Dropdown menu 1. نعم 2. لا 98. لا يعرف
A5: 4001 | B5: هل كان هناك اي حدث خاص في اسرتك خلال السبعة أيام الماضية؟ | C5: 1- زفاف | E5: If 97, provide textbox
C6: 2- اعياد
C7: 3-حالة وفاة
C8: 4- عطلة رسمية
C9: 5- لايوجد
C10: 97- أخرى (حدد)
A12: =A5+1 -> 4002 | B12: 1. هل قمت في السبعة أيام السابقة بأي من الأنشطة التالية؟ | C12: Dropdown: 1. نعم 2. لا 98. لا يعرف | D12: 2. كم من الوقت امضيت في هذا النشاط؟
B13: a. القيام بأنشطة زراعية بغرض استهلاك الاسرة | C13: |___| | D13: |___||___|.|___|___|
B14: b. تربية دواجن/ثروة حيوانية بغرض استهلاك الأسرة لها | C14: |___| | D14: |___||___|.|___|___|
B15: c. صناعة السمن / الزبدة / جبن بغرض استهلاك الأسرة لها | C15: |___| | D15: |___||___|.|___|___|
B16: d. اعداد الطعام بغرض استهلاك الأسرة | C16: |___| | D16: |___||___|.|___|___|
B17: e.غسيل الاطباق | C17: |___| | D17: |___||___|.|___|___|
B18: f. غسيل الملابس وكيها | C18: |___| | D18: |___||___|.|___|___|
B19: g. تنظيف البيت | C19: |___| | D19: |___||___|.|___|___|
B20: h.عمال بناء لمنزل الاسرة او اعمال صيانة في المنزل | C20: |___| | D20: |___||___|.|___|___|
B21: i.جمع حطب/ وقود (مصادر طاقة أخري) | C21: |___| | D21: |___||___|.|___|___|
B22: j. التسوق للمنزل بمافيه شراء الطعام وملابس الاسرة ومستلزمات المنزل | C22: |___| | D22: |___||___|.|___|___|
B23: k. لتفرغ لرعاية كبار السن أو المرضى | C23: |___| | D23: |___||___|.|___|___|
B24: l. لتفرغ لرعاية الاطفال | C24: |___| | D24: |___||___|.|___|___|

Sheet 5.1 Employment
A1: 5. بيانات التشغيل و البطالة
A2: 5.1 العمل خلال السبعة أيام الماضية
C3: (6 سنوات فأكثر بناء علي سؤال 206)
A4: Q# | B4: Question | C4: Type of Question | F4: Validation & Skip Patterns
A5: 5101 | B5: هل زاولت اي عمل خلال السبعة ايام التي سبقت يوم المقابلة؟ (حتي إن زاول العمل لساعة واحدة) | C5: 1. نعم 2. لا 98-لايعرف | F5: =CONCATENATE("If 1 -->",A24) -> If 1 -->5107
A6: =A5+1 -> 5102 | B6: هل كنت مرتبط بعمل خلال السبعة أيام مالماضية ولكنك كنت غائبا عنه مؤقتا؟ | C6: 1. نعم 2. لا 98-لايعرف | F6: =CONCATENATE("If 1 -->",A28) -> If 1 -->5110
A7: =A6+1 -> 5103 | B7: هل قمت خلال 7 ايام السابقة للمقابلة (ولو لفترة قصيرة او متقطعة) باي عمل من الاعمال التالية بغرض البيع / التسويق/ الحصول على اجر / المساعدة في مشروع اسري بهدف البيع أو التسويق؟ | C7: النشاط | D7: 1. نعم | E7: 2. لا | F7: =CONCATENATE("If any a. -m. = yes, -->",A24) -> If any a. -m. = yes, -->5107
C8: a. المشاركة في انتاج زراعي (جمع محصول/ري/زراعة)
C9: b. تربية طيور/رعاية مواشي/اغنام
C10: c. انتاج البان واجبان/سمن
C11: d. تحضير خضروات/ماكولات
C12: e.منتجات قش/سجاد/منسوجات/حبال
C13: f. تقديم خدمات للغير (لبعض الوقت) في المنزل / المحل / الفندق
C14: g. بائع متجول
C15: h. عامل بناء
C16: i. جمع حطب / جفت
C17: j. خياطة/ تطريز/ كروشية
C18: k.مندوب مبيعات
C19: l. متدرب
C20: m. عمل من المنزل(مبرمج, etc.)
A21: =A7+1 -> 5104 | B21: هل كنت ترغب في العمل خلال السبعة ايام السابقة ليوم المقابلة؟ | C21: 1. نعم 2. لا 98-لايعرف | F21: =CONCATENATE("If 2 or 98 --> ",A23) -> If 2 or 98 --> 5106
A22: =A21+1 -> 5105 | B22: اذا توفر عمل مناسب، هل انت مستعد لتبدأ العمل خلال الاسبوعين المقبلين؟ | C22: 1. نعم 2. لا 98-لايعرف | F22: If 1 --> next section (Ages 15-64) or section 5.3 (Ages 6-14 and 65+)
A23: =A22+1 -> 5106 | B23: ما هو السبب الرئيسي لعدم الرغبة أو الإستعداد للعمل؟ | C23: 1. ربة منزل 2. طالب بدوام كامل 3. له دخل أو ايراد 4. لا يرغب في العمل 5. عجز مؤقت عن العمل (إعاقة) 6. عجز دائم عن العمل (إعاقة) 7. متقاعد 97. أخري (حدد) 98. لا يعرف | F23: After answering --> section 5.3 Employment; if 97, provide textbox
A24: =A23+1 -> 5107 | B24: ما عدد أياّم عملك الفعلية خلال 7 ايام السابقة ليوم المقابلة سواء كانت متصلة اومتقطعة؟ | C24: Dropdown menu, (1-7), لا يعرف = 98
A25: =A24+1 -> 5108 | B25: ما عدد ساعات عملك في اليوم والاسبوع خلال الاسبوع الماضي؟ في حالة لا يعرف، اكتب 98 | C25: a. إجمالي عدد الساعات في اليوم:|___|___| | F25: =CONCATENATE("Provide textbox for both lines that accepts only numbers. If b in ",A25, " >= 35 -->",A28," if b in ",A25, "=98 -->",A30) -> Provide textbox for both lines that accepts only numbers. If b in 5108 >= 35 -->5110 if b in 5108=98 -->5111
C26: b. إجمالي عدد الساعات في الاسبوع |___|___|
A27: =A25+1 -> 5109 | B27: ما سبب العمل لمدة أقل من 35 ساعة في الاسبوع؟ | C27: 1- ظروف العمل تقتضي ذلك 2- عدم وجود عمل لساعات أطول 3- الأجر غير مجزي 4- عدم الرغبة في العمل وقت أطول 5- غياب مؤقت عن العمل 97- أخرى (حدد) 98- لا يعرف | F27: If 97, provide textbox
A28: =A27+1 -> 5110 | B28: متى بدأت عملك الحالي؟ | C28: a. شهر: dropdown menu from الشهور السريانية +لا يعرف 98 | F28: =CONCATENATE("Calculate the period: if individual has been working for less than 3 months --> Q",A30," if individual has been working for more than 3 months -->section 6.1") -> Calculate the period: if individual has been working for less than 3 months --> Q5111 if individual has been working for more than 3 months -->section 6.1
C29: b. السنة dropdown menu from 1930-2016 +لا يعرف 9998)
A30: =A28+1 -> 5111 | B30: هل عملك في الاسبوع السابق للمقابلة هو العمل الاساسي الاطول خلال الثلاث شهور الماضية؟ | C30: 1- نعم 2- لا 98-لايعرف | F30: After answering --> section 6.1

Sheet 5.2 Unemployment
B1: 5 بيانات التشغيل والبطالة
B2: 5.2 البطالة
D3: وظيفة الحكومة هي العمل الأساسي بغض النظر اذا ما كان الفرد لديه عمل آخر يقضي به وقت أطول
B4: =CONCATENATE("Apply to those who answered yes to question ",'5.1 Employment'!A22, " and are between ages 15-64 based on Q206 in household questionnaire") -> Apply to those who answered yes to question 5105 and are between ages 15-64 based on Q206 in household questionnaire
B6: Question # | C6: Question | D6: Type of Question | H6: Validation & Skip Patterns
B7: 5201 | C7: ما السبب الرئيسي لعدم عملك خلال الأسبوع السابق للمقابلة؟ | D7: السبب الرئيسي : Dropdown menu with the following choices 1- عدم وجود عمل على الاطلاق 2- عدم وجود عمل يناسب المؤهل أو الخبرة 3- عدم وجود عمل بالأجر المناسب 4- عدم وجود عمل في منظمة أو شركة مناسبة 5- عدم وجود عمل بموقع مناسب 6- عدم القدرة علي تحمل نفقات السكن او الانتقال إلى مكان فرصة العمل المتاح 7- غياب الامان خلال رحلتي الذهاب و العودة للعمل 97- اخرى (حدد) | H7: If 97, provide a textbox
B8: =B7+1 -> 5202 | C8: هل هناك سبب ثانوي لعدم عملك خلال الأسبوع السابق للمقابلة؟ | D8: 1. نعم 2. لا 98-لا يعرف | H8: =CONCATENATE("If 2 or 98 --> Q",B10) -> If 2 or 98 --> Q5204
B9: =B8+1 -> 5203 | C9: اذكر السبب الثانوي | D9: السبب الثانوى : Dropdown menu with the following choices 1- عدم وجود عمل على الإطلاق 2- عدم وجود عمل يناسب المؤهل أو الخبرة 3- عدم وجود عمل بالإجر المناسب 4- عدم وجود عمل في منظمة أو شركة مناسبة 5- عدم وجود عمل بموقع مناسب 6- عدم القدرة علي تحمل نفقات السكن او الانتقال إلى مكان فرصة العمل المتاح 7- غياب الامان خلال رحلتي الذهاب و العودة للعمل 97- أخرى (حدد)
B10: =B9+1 -> 5204 | C10: ماهو الحد الأدنى لصافي الدخل الشهري الذي تحتاجه لتقبل وظيفة في القطاع الحكومي؟ | D10: الدخل الشهري بالدينار: |___|___|___|___| *في حالة ان يكون المبلغ اكبر من 10,000 اكتب 9999 * في حالة لا يعرف اكتب 9998 * في حالة عدم الرغبة في هذا القطاع اكتب 9996 | H10: Provide a textbox that only accepts numerical values (max 4-digits)
B11: =B10+1 -> 5205 | C11: ماهو الحد الادنى لصافي الدخل الشهري الذي تحتاجه لتقبل وظيفة في القطاع الخاص المنظم؟ | D11: الدخل الشهري بالدينار: |___|___|___|___| *في حالة ان يكون المبلغ اكبر من 10,000 اكتب 9999 * في حالة لا يعرف اكتب 9998 * في حالة عدم الرغبة في هذا القطاع اكتب 9996 | H11: Provide a textbox that only accepts numerical values (max 4-digits)
B12: =B11+1 -> 5206 | C12: ماهو الحد الادنى لصافي الدخل الشهري الذي تحتاجه لتقبل وظيفة في القطاع الغير منظم؟ (العمل بمنشآت لا تحمل سجل تجاري و لا توفر ضمان اجتماعي) | D12: الدخل الشهري بالدينار: |___|___|___|___| *في حالة ان يكون المبلغ اكبر من 10,000 اكتب 9999 * في حالة لا يعرف اكتب 9998 * في حالة عدم الرغبة في هذا القطاع اكتب 9996 | H12: Provide a textbox that only accepts numerical values (max 4-digits)
B13: =B12+1 -> 5207 | C13: هل تقبل وظيفة أي من الوظائف الآتية: | D13: 1. موظف موارد بشرية 2. موظف في القطاع العام/الحكومي 3. مساعد إداري 4. مدخل بيانات 5. أمين صندوق بنك 6. معلم 7. موظف خدمة عملاء 8. مندوب مبيعات داخل محل 9.موظف تسويق عبر الهاتف 10. مندوب مبيعات متجول (Outdoor sales) 11. سفرجي/مضيف 12. عامل زراعي 13. عامل صناعي | E13: 1. نعم | F13: 2. لا | G13: لا يعرف( 98)
B14: =B13+1 -> 5208 | C14: متى بدأت فترة التعطل الأخيرة؟ **هذا هو التاريخ الذي أنهى فيه الشخص آخر فترة عمل له (في أي عمل) أو عندما بدأ البحث عن عمل للمرة الأولى | D14: a. الشهر (dropdown menu from الشهور السريانية; لا يعرف=98) b. السنة (dropdown menu from 1930-2016; لا يعرف=9998)
B15: =B14+1 -> 5209 | C15: هل قمت باي من المحاولات التالية للبحث عن عمل خلال الأربع أسابيع الماضية؟ | E15: 1. نعم | F15: 2. لا | G15: لا يعرف (98) | H15: =CONCATENATE("if any of the answers from 1-12, 97 were yes, --> Q",B35," If 97, provide textbox") -> if any of the answers from 1-12, 97 were yes, --> Q5216 If 97, provide textbox
D16: 1. التسجيل في مكاتب وزارة العمل/ديوان الخدمة المدنية
D17: 2. التسجيل في مكتب عمل خاص
D18: 3. المشاركة في امتحان تنافسي
D19: 4. تقديم طلب عمل أو السيرة الذاتية للإحدى جهات العمل
D20: 5. التحري في موقع العمل أو الإتصال بصاحب العمل
D21: 6. نشر طلب عمل بالجرائد
D22: 7. البحث في أعلانات الوظائف في الجرائد أو عبر الأنترنت
D23: 8. التقدم إلى عمل معلن عنه في الجرائد أو في الأنترنت
D24: 9. طلب مساعدة من معارف أو أقارب
D25: 10. الإنتظار بمكان تجمع للعمالة اليومية
D26: 11. السعي للبدء في مشروع خاص
D27: 12. القيام بترتيبات للحصول على تمويل لمشروع خاص
D28: 97. أخرى(حدد)
B29: =B15+1 -> 5210 | C29: ماهو سبب عدم بحثك عن عمل خلال الأربع أسابيع الماضية؟ | D29: السبب الرئيسي (dropdown menu) 1. الاعتقاد بعدم وجود عمل 2. تعب من البحث عن عمل 3. تفضيل الذكور/الإناث في التعيين 4. لايعرف طريقة فعالة للبحث 5. عدم وجود عمل مناسب 6. ليس لدي الخبرة اللازمة 7. قصور العلاقات الاجتماعية (الواسطة) 8. بسبب الدراسة 9. عدم الاحتياج للعمل 10- الحالة الصحية لا تسمح 11- بسبب المسئوليات العائلية 12- بسبب معارضة أحد أعضاء الأسرة 97- أخرى (حدد) 98- لا يعرف | H29: If 97, provide a textbox
B30: =B29+1 -> 5211 | C30: هل هناك سبب ثانوي؟ | D30: 1. نعم 2. لا | H30: =CONCATENATE("If 2-->", B32) -> If 2-->5213
B31: =B30+1 -> 5212 | C31: اذكر السبب الثانوي: | D31: السبب الثانوى (dropdown menu) 1. الاعتقاد بعدم وجود عمل 2. تعب من البحث عن عمل 3. تفضيل الذكورعلى الإناث في التعيين او العكس 4. لايعرف طريقة فعالة للبحث 5. عدم وجود عمل مناسب 6. ليس لدي الخبرة اللازمة 7. قصور العلاقات الاجتماعية (الواسطة) 8. بسبب الدراسة 9. عدم الاحتياج للعمل 10- الحالة الصحية لا تسمح 11- بسبب المسئوليات العائلية 12- بسبب معارضة أحد أعضاء الأسرة 97- أخرى (حدد) 98- لا يعرف
B32: =B31+1 -> 5213 | C32: هل بحثت باجتهاد عن عمل خلال فترة تعطلك الحالي؟ | D32: 1. نعم 2. لا | H32: If 2 ---> next section
B33: =B32+1 -> 5214 | C33: في أي شهر وسنة بدأت البحث عن العمل لأوّل مرّة في فترة التعطل الحالية؟ | D33: a. الشهر: (dropdown menu from الشهور السيريانية; لا يعرف=98) b. السنة: (dropdown menu from 1930-2016; لا يعرف=9998) | H33: =CONCATENATE("Validation: date needs to be the same or later than in Q",B14) -> Validation: date needs to be the same or later than in Q5208
B34: =B33+1 -> 5215 | C34: في أي شهر وسنة بحثت عن عمل لآخر مرة؟ | D34: a. الشهر: (dropdown menu from الشهور السيريانية; لا يعرف=98) b. السنة: (dropdown menu from 1930-2016; لا يعرف=9998) | H34: =CONCATENATE("Validation: date needs to be the same or later than in Q",B33," After answering --> next section") -> Validation: date needs to be the same or later than in Q5214 After answering --> next section
B35: =B34+1 -> 5216 | C35: هل استخدمت وسيلة الهاتف الأرضي للبحث عن عمل خلال الأربع أسابيع الماضية؟ | D35: 1- نعم 2- لا
B36: =B35+1 -> 5217 | C36: هل استخدمت وسيلة الهاتف الخلوي (الموبيل) للبحث عن عمل خلال الاربع أسابيع الماضية؟ هل كان متصل بالإنترنت؟ | D36: 1. نعم، متصل بالإنترنت 2. نعم، و لكن ليس متصل بالإنترنت 3. لا
B37: =B36+1 -> 5218 | C37: هل استخدمت الحاسوب للبحث عن عمل خلال الأربع اسابيع الماضية؟ وهل كان متصل بالإنترنت؟ | D37: 1. نعم، متصل بالانترنت 2. نعم، و لكن ليس متصل بالانترنت 3. لا
B38: =B37+1 -> 5219 | C38: متي بدأت البحث عن وظيفة لأول مرة خلال فترة التعطل الحالية؟ | D38: a. الشهر: (dropdown menu from الشهور السيريانية ; لا يعرف=98) b. السنة: (dropdown menu from 1930-2016; لا يعرف=9998) | H38: =CONCATENATE("Validation: date needs to be the same or later than in Q",B14) -> Validation: date needs to be the same or later than in Q5208

Sheet 5.3 Employment
A1: 5.3 العمل خلال الثلاثة أشهر الماضية (الذين لم يعملوا خلال السبعة أيام السابقة) 6 سنوات فأكثر
C2: ينطبق علي جميع الافراد 6 سنوات فأكثر بناء علي السؤال 206 و الذين لم يسبق لهم خلال السبعة ايام الماضية (لم يتم الاجابة ب"نعم" في اي من الاسئلة التالية: 5101و 5012و 5103
A3: Question # | B3: Question | C3: Type of Question | F3: Validation & Skip Patterns
A4: 5301 | B4: هل زاولت أي عمل خلال الثلاثة أشهر الماضية ؟ | C4: 1- نعم 2- لا | F4: If 1 --> next section
A5: =A4+1 -> 5302 | B5: هل قمت خلال الثلاثة الأشهر الماضية (حتي و لو لفترة قصيرة أو متقطعة) بأي عمل من الأعمال التالية بغرض البيع/ التسويق/ الحصول على اجر/ المساعدة في مشروع أسري؟ | C5: النشاط | D5: 1. نعم | E5: 2. لا | F5: If yes to any, --> next section
C6: a. المشاركة في عمل زراعي (جمع محصول/ري/زراعة)
C7: b. تربية طيور/رعاية مواشي/اغنام
C8: c. انتاج البان واجبان/سمن
C9: d. تحضير خضروات/ماكولات
C10: e.منتجات قش/سجاد/منسوجات/حبال
C11: f. تقديم خدمات للغير (لبعض الوقت) في منزل/ محل/ فندق
C12: g. بائع متجول
C13: h. عامل بناء
C14: i. جمع حطب / جفت
C15: j. خياطة/ تطريز/ كروشية
C16: k.مندوب مبيعات
C17: l. متدرب
C18: m. عمل من المنزل(مبرمج, etc.)
A19: =A5+1 -> 5303 | B19: هل سبق لك العمل أو المشاركة في أي من الأنشطة السابقة أو أي عمل آخر لمدة تزيد عن 6 أشهر؟ | C19: 1. نعم 2. لا | F19: If 1 & age 15+--> section 7. Job mobility If 1 & age<15--> section 12.1 information technology
A20: =A19+1 -> 5304 | B20: هل سبق لك البحث عن عمل أو التسجيل في مكتب توظيف أو الاشتراك في أمتحان تنافسي؟ | C20: 1. نعم 2. لا | F20: If 2 or 98 & age 15+ --> section 8.1 cost of marriage If 2 or 98 & age<15--> section 12.1 information technology
A21: =A20+1 -> 5305 | B21: متى بدأت البحث عن عمل لأول مرة؟ | C21: شهر (dropdown menu from الشهور السيريانية ) 98لا يعرف السنة (dropdown 1930-2016) 9998 لا يعرف
A22: =A21+1 -> 5306 | B22: هل مازلت تبحث عن عمل؟ | C22: 1. نعم 2. لا | F22: If 1 & age 15+ --> section 8.1 cost of marriage If 1 & age<15--> section 12.1 information technology
A23: =A22+1 -> 5307 | B23: متى انتهيت من البحث عن عمل لآخر مرة؟ | C23: شهر (dropdown menu from الشهور السيريانية) 98لا يعرف السنة (dropdown 1930-2016) 9998 لا يعرف | F23: After answering, If age 15+ --> section 8.1 cost of marriage If age<15--> section 12.1 information technology

Sheet 6.1 Job charc 
A1: 6. خصائص العمل
A2: 6.1 العمل الأساسي خلال 3 شهور الماضية
A3: ينطبق على جميع الأفراد (6 سنوات فأكثر بناء علي السؤال 206) الذين عملوا خلال الثلاث الشهور الماضية (تم الاجابة علي اي من 5101، 5102، 5103، 5301، 5302 ب"نعم")
A4: Question # | B4: Question | C4: Type of Question | D4: Validation & Skip Patterns
A5: 6101 | B5: هل تعمل في مكان ثابت أو منشأة؟ | C5: 1- نعم 2- لا 98-لا يعرف | D5: =CONCATENATE("If 2 or 98 --> Q",A7) -> If 2 or 98 --> Q6103
A6: =A5+1 -> 6102 | B6: ما اسم هذه المنشأة؟ | C6: اسم المنشأة : ___________ | D6: (Textbox that accepts letters)
A7: =A6+1 -> 6103 | B7: ما هو النشاط الإقتصادي لجهة العمل التي تعمل بها أو النشاط لمن يعمل خارج المؤسسات؟ | C7: النشاط الاقتصادى Level 1 النشاط الاقتصادى4 Level اكتب 998، اذا كان لا يعرف | D7: Level 1: dropdown menu with the generic economic activities. Level 4: dropdown menu with more specific information.
A8: =A7+1 -> 6104 | B8: ما هي مهنتك في عملك الأساسي خلال الثلاثة شهور الماضية؟ | C8: المهنة: | D8: Skip pattern: If age<15-->Q",A11)
A9: =A8+1 -> 6105 | B9: هل يتطلب عملك الإشراف على آخرين؟ | C9: 1- نعم 2- لا 98- لا يعرف | D9: =CONCATENATE("If 2 or 98--> Q",A11) -> If 2 or 98--> Q6107
A10: =A9+1 -> 6106 | B10: كم عدد الأشخاص الذين تشرف عليهم مباشرة؟ | C10: عدد الاشخاص : |___|___|___| اكتب 998 اذا لايعرف اكتب 999 اذا اكثر من 1000 | D10: Textbox accepting numerical values - 3-digit values
A11: =A10+1 -> 6107 | B11: هل يتطلب عملك مهارة فنيّة؟ | C11: 1- نعم 2- لا 98- لا يعرف | D11: =CONCATENATE("If 2 or 98 --> Q",A15) -> If 2 or 98 --> Q6111
A12: =A11+1 -> 6108 | B12: كيف حصلت على هذه المهارة؟ (أذكر أهم وسيلة) | C12: 1- التعليم العام (ما عدا التعليم الفني) 2- التعليم الفني 3- التدريب المهني 4- من خلال مقاول 5- من خلال حرفي 6- من خلال العمل في شركة أو مؤسسة قطاع عام 7- من خلال العمل في شركة قطاع خاص 8- من خلال العمل في مشروع أسري 97- أخرى حدد 98- لا يعرف | D12: If 97, provide a textbox
A13: =A12+1 -> 6109 | B13: هل الفرد يمارس عمل حرفي؟ | C13: 1- نعم 2- لا 98- لا يعرف | D13: =CONCATENATE("If 2 or 98 --> Q",A15) -> If 2 or 98 --> Q6111
A14: =A13+1 -> 6110 | B14: ما هو مستوى مهارتك؟ | C14: 1- تحت التمرين (متدرب) 2- مساعد 3- فني متخصص 98- لا يعرف
A15: =A14+1 -> 6111 | B15: هل إشتركت في أي دورة تدريبية تمكنك من القيام بعملك (غير التعليم النظامي)؟ | C15: 1- نعم 2- لا 98- لا يعرف | D15: =CONCATENATE("If 2 or 98-> Q",A19) -> If 2 or 98-> Q6115
A16: =A15+1 -> 6112 | B16: ما هو نوع التدريب الذي حصلت عليه؟ ** في حالة تعدّد الدورات، إسأل عن أطول تدريب | C16: 1- مؤسسة التدريب المهني 2- وكالة الغوث 3- معهد خاص فني 4- تدريب متعلق بالعمل يمنحه صاحب العمل 5- برنامج تدريب مهني من خلال مؤسسة عمومية 6- برنامج تدريب مهني من خلال مؤسسة خاصة 7- برنامج تعليم لغات 8- برنامج تعليم كمبيوتر 9- دورة سكرتارية 97- أخرى (حدد) 98- لا يعرف | D16: If 97, provide a textbox
A17: =A16+1 -> 6113 | B17: كم عدد الأسابيع التي تطلبها هذا التدريب؟ | C17: عدد الاسابيع: |__|__|__| ** اذا كان أكثر من 100 أسبوع اكتب 999 ** اذا كان "لا يعرف" اكتب 998 ** اذا كان اقل من اسبوع اكتب 01 | D17: Textbox accepting numbers - 3 digit numbers
A18: =A17+1 -> 6114 | B18: من الذي تحمّل معظم تكاليف هذا التدريب؟ | C18: 1- الفرد بنفسه 2- أسرة الفرد 3- صاحب العمل 4- هيئة عمومية 5- وكالة الغوث 6- منظمة غير حكومية 97- أخرى (حدد) 98- لا يعرف | D18: If 97, provide a textbox
A19: =A18+1 -> 6115 | B19: ما هو الحد الأدنى من التعليم الذي يتطلبه عملك؟ | C19: 1- لا يتطلب شهادة 2- شهادة محو الأمية 3- إبتدائي 4- إعدادي 5- ثانوي 6- مؤهّل جامعي 7- مؤهّل فوق الجامعي 98- لا يعرف
A20: =A19+1 -> 6116 | B20: هل يتطلبّ عملك أيّ من القدرات التالية؟ | C20: 1. نعم 2. لا 98. لا يعرف | D20: The 1, 2, or 98 should be dropdown menu for each line
C21: 1. معرفة القراءة والكتابة الأساسية
C22: 2. رياضيات أو إحصاء
C23: 3. لياقة بدنية (مجهود عضلي)
C24: 4. مهارات حاسوب
A25: =A20+1 -> 6117 | B25: هل تستخدم حاسوب (كمبيوتر) في العمل؟ وفي حالة إستخدامه هل هو متصل بالأنترنت؟ | C25: 1- نعم، مع الأنترنت 2- نعم، بدون أنترنت 3- لا 98- لا يعرف
A26: =A25+1 -> 6118 | B26: هل عملك منتظم أو غير منتظم؟ | C26: 1. منتظم 2. غير منتظم | D26: =CONCATENATE("If 2 --> Q",A28) -> If 2 --> Q6120
A27: =A26+1 -> 6119 | B27: هل عملك دائم أم مؤقت؟ | C27: 1. دائم 2. مؤقت | D27: =CONCATENATE("After answering --> Q",A29) -> After answering --> Q6121
A28: =A27+1 -> 6120 | B28: هل عملك متقطع أم موسمى؟ | C28: 1. متقطع 2. موسمي | D28: =CONCATENATE("After answering, --> Q",A32) -> After answering, --> Q6124
A29: =A28+1 -> 6121 | B29: في حالة العمالة المنتظمة: ما المدّة التي قضيتها في أطول عمل أساسي لك في الثلاث شهور الماضية (بالأسابيع)؟ | C29: المدة بالاسبوع: |___|___| ** اكتب 13، في حالة العمل خلال المدة كلها ** اكتب 98، اذا كان لا يعرف | D29: Textbox accepting numerical values - 2 digits
A30: =A29+1 -> 6122 | B30: ما متوسط عدد أيام الاسبوع التي عملت بها خلال الثلاثة شهور الماضية؟ | C30: عدد ايام العمل في الاسبوع: |___|___| ** اكتب 98، في حالة لا يعرف | D30: Textbox accepting numerical values - 2 digits
A31: =A30+1 -> 6123 | B31: ما هو متوسط عدد الساعات التي تعملها يوميا؟ | C31: عدد ساعات العمل في اليوم : |___|___| ** اكتب 98، في حالة لا يعرف | D31: =CONCATENATE("After answering --> Q",A36) -> After answering --> Q6125
A32: =A31+1 -> 6124 | B32: في حالة العمال غير المنتظم: ما المدة التي قضيتها في عملك الأساسي خلال الثلاثة اشهر الماضية؟ (سواء كانت متصلة او متقطعة) **اكتب 98، في حالة لا يعرف
B33: الشهر السابق | C33: عدد اسابيع العمل: ___ ___ ساعات العمل/ الاسبوع : ___ ___ | D33: Provide numerical textboxes
B34: الشهر ما قبل السابق | C34: عدد اسابيع العمل: ___ ___ ساعات العمل/ الاسبوع : ___ ___
B35: الشهر ما قبلهما | C35: عدد اسابيع العمل: ___ ___ ساعات العمل/ الاسبوع : ___ ___
A36: =A32+1 -> 6125 | B36: هل تعمل احيانا ليلاً (بعد السابعة مساءً)؟ | C36: 1- نعم 2- لا
A37: =A36+1 -> 6126 | B37: هل هناك نسبة من منتج جهة العمل التي تعمل بها يتم تصديرها الى الخارج؟ | C37: 1- نعم 2- لا 98- لا يعرف | D37: =CONCATENATE("If 2 or 98 --> Q",A39) -> If 2 or 98 --> Q6128
A38: =A37+1 -> 6127 | B38: ماهي نسبة المنتجات التي يتم تصديرها؟ | C38: 1- أقل من الربع 2- من الربع الى أقل من النصف 3- من النصف الى أقل الثلاث أرباع 4- أكثر من الثلاث أرباع ولكن ليس كل الكمية 5- كلها 98- لا يعرف
A39: =A38+1 -> 6128 | B39: هل نشاط جهة العمل التي تعمل بها له علاقة بالسياحة(تقديم خدمة اوسلعة للسياح)؟ | C39: 1- نعم 2- لا 98- لا يعرف | D39: =CONCATENATE("If 2 or 98 --> Q",A41) -> If 2 or 98 --> Q6130
A40: =A39+1 -> 6129 | B40: ماهي نسبة السلع او الخدمات التي تقدم للسائحين؟ | C40: 1- أقل من الربع 2- من الربع الى أقل من النصف 3- من النصف الى أقل الثلاث أرباع 4- أكثر من الثلاث أرباع ولكن ليس كل الكمية 5- كلها 98- لا يعرف
...

Sheet 6.2 Secondary Job
A1: 6.2 العمل الثانوي خلال 3 شهور الماضية
A2: ينطبق علي جميع الأفراد الذين عملوا خلال الثلاثة أشهر الماضية و سنهم 15 فأكثر
E3: =CONCATENATE("i.e. yes in any of Q",'5.1 Employment'!A5," Q",'5.1 Employment'!A6," Q",'5.1 Employment'!A7," Q",'5.3 Employment'!A4," Q",'5.3 Employment'!A5,"and 15+ per Q206 of household questionnaire") -> i.e. yes in any of Q5101 Q5102 Q5103 Q5301 Q5302and 15+ per Q206 of household questionnaire
A4: Question # | B4: Question | C4: Type of Question | E4: Validation & Skip Patterns
A5: 6201 | B5: هل قمت بأي عمل ثانوي بجانب عملك الأساسي خلال الثلاث شهور الماضية ( حتي لو لبعض الوقت أو بصورة غير منتظمة أو في مواسم معينة أو في الإجازات)؟ | C5: 1. نعم 2. لا | E5: =CONCATENATE("If 1 --> Q",A20) -> If 1 --> Q6203
A6: =A5+1 -> 6202 | B6: هل قمت خلال الثلاث شهور الماضية و لو لفترة قصيرة أو متقطعة بعمل من الأعمال التالية بجانب عملك الأساسي بغرض البيع أو التسويق/ الحصول على أجر/ أو المساعدة في مشروع أسري ؟ للباحثة: الرجاء السؤال عن كل نشاط علي حده مع الأخذ في الاعنبار الفروق بين الحضر و الريف و المستوي الإجتماعي للأسرة | C6: النشاط | D6: 1. نعم 2. لا | E6: If the answer to all options is "no" ---> next section (7.0)
C7: a. المشاركة في انتاج زراعي (جمع محصول/ري/زراعة)
C8: b. تربية طيور/رعاية مواشي/اغنام
C9: c. انتاج البان واجبان/سمن
C10: d. تحضير خضروات/ماكولات
C11: e.منتجات قش/سجاد/منسوجات/حبال
C12: f. تقديم خدمات للغير (لبعض الوقت) في منزل / محل / فندق
C13: g. بائع متجول
C14: h. عامل بناء
C15: i. جمع حطب / جفت
C16: j. خياطة/ تطريز/ كروشية
C17: k.مندوب مبيعات
C18: l. متدرب
C19: m. عمل من المنزل(مبرمج, etc.)
A20: =A6+1 -> 6203 | B20: ما هو نوع عملك الثانوي (الحرفة أو المهنة بالتفصيل)؟. | C20: المهنة ** اكتب 998، في حالة لا يعرف
A21: =A20+1 -> 6204 | B21: ما هو النشاط الإقتصادي لمؤسسة عملك الثانوي؟ | C21: النشاط الأقتصادي (level 1): النشاط الأقتصادي (level 4): | E21: Hierarchical dropdown menu with list of occupations; if don't know,998
A22: =A21+1 -> 6205 | B22: ما هي طبيعة العلاقة التي تربطك بعملك الثانوي (الحالة العملية) خلال الثلاث شهور الماضية؟ | C22: 1- يعمل بأجر (نقدي أو عيني) 2- صاحب عمل ويستخدم آخرين 3- يعمل لحسابه و لا يستخدم آخرين 4- يعمل لدى الأسرة دون أجر 5- يعمل لدى الغير دون أجر
A23: =A22+1 -> 6206 | B23: ما المدة التي قضيتها في عملك الثانوي (سواء متصلة أو متقطعة) خلال الثلاث شهور الماضية؟ في حالة لا يعرف أكتب 98 | C23: الشهر السابق | D23: عدد اسابيع العمل |___|___| ساعات العمل في الاسبوع |___|___| | E23: Provide numerical textboxes
C24: الشهر ما قبل السابق | D24: عدد اسابيع العمل |___|___| ساعات العمل في الاسبوع |___|___|
C25: الشهر ما قبلهما | D25: عدد اسابيع العمل |___|___| ساعات العمل في الاسبوع |___|___|

Sheet 7.0 Job Mobility
A1: 7. الحراك الوظيفي
A2: ينطبق علي جميع الأفراد الذين سبق لهم العمل أو حالياً يعملون و أكبر من 15 سنة | Q2: 705 | R2: During the month before the onset of the revolution on Janury 14, 2011, was your main job or employment status different from your main job or employment status during the past three months?
A3: في حالة العمالة المنتظمة: إذا كان تغيير الوظيفة في نفس مكان جهة العمل لا يعتبر تنقل. في حالة العمالة الغير منتظمة: تغيير صاحب العمل لا يعتبر تنقل.
C4: =CONCATENATE("i.e. yes in any of Q",'5.1 Employment'!A5," Q",'5.1 Employment'!A6," Q",'5.1 Employment'!A7," Q",'5.3 Employment'!A4," Q",'5.3 Employment'!A5, " Q",'5.3 Employment'!A18," and 15+ per Q206 of household questionnaire") -> i.e. yes in any of Q5101 Q5102 Q5103 Q5301 Q5302 Q and 15+ per Q206 of household questionnaire
A5: Question # | B5: Question | C5: Type of Question | D5: Validation & Skip Patterns
A6: 7000 | B6: هل كنت في المدرسة عندما عملت لفترة أطول من 6 أشهر لأول مرة؟ (إذا كان يعمل لأول مرة و لفترة أقل من 6 أشهر، أسأل عن عمله الحالي) | C6: 1. نعم 2. لا 98. لا يعرف | D6: =CONCATENATE("If 1--> ",A13) -> If 1--> 7101_1 | E6: When you worked for the first time for longer than six months, were you in school? (If currently working for the first time and worked for <6 months ask about current position)
